BEGIN:VCALENDAR
VERSION:2.0
PRODID:-//wp-events-plugin.com//7.2.3.1//EN
BEGIN:VEVENT
UID:12@traversemotion.be
DTSTART:20260627T200000Z
DTEND:20260627T200000Z
DTSTAMP:20260422T121203Z
URL:https://traversemotion.be/events/adrien-guiot-trio-avec-pierre-vaiana/
SUMMARY:Adrien Guiot Trio avec Pierre Vaiana
DESCRIPTION:[button color="purple" newwindow="yes"] BILLETTERIE[/button]\nJ
 azz\, traditionnel\, musiques italiennes\nAdrien Guiot célèbre Rosa Bali
 streri dans un concert où la chanson sicilienne s’embrase au contact du
  jazz.\nÀ la guitare et au chant\, il est entouré d’Everton Firmeza à
  la contrebasse et de Pierre Vaiana au saxophone soprano\, dont les improv
 isations subliment ce répertoire intense. Trois musiciens\, une énergie 
 brûlante\, et sur scène\, une interprétation vibrante qui donne envie d
 e voyager.\n\nAdrien Guiot : Guitare\, chant\nEverton Firmeza : Contrebass
 e\nPierre Vaiana : Saxophone soprano\n\nPrévente : 10€ | Entrée : 15
 € | art27 : 1.25€ | -15 ans : € Libre\nAu jardin à Sart-Risbart\n\n
 [embed]https://www.youtube.com/watch?v=tKSUhz60tew[/embed]\n\n&nbsp\;
ATTACH;FMTTYPE=image/jpeg:https://traversemotion.be/wp-content/uploads/202
 6/04/490669567_1149564007183509_6795959490934572603_n.jpg
CATEGORIES:Concert
LOCATION:Au Jardin\, Rue Alphonse Robert\, 71\, Sart-Risbart (Incourt)\, 13
 15\, Belgique
X-APPLE-STRUCTURED-LOCATION;VALUE=URI;X-ADDRESS=Rue Alphonse Robert\, 71\, 
 Sart-Risbart (Incourt)\, 1315\, Belgique;X-APPLE-RADIUS=100;X-TITLE=Au Jar
 din:geo:0,0
END:VEVENT
END:VCALENDAR