BEGIN:VCALENDAR
VERSION:2.0
PRODID:-//wp-events-plugin.com//7.2.3.1//EN
BEGIN:VEVENT
UID:15@traversemotion.be
DTSTART:20260820T190000Z
DTEND:20260823T190000Z
DTSTAMP:20260422T124331Z
URL:https://traversemotion.be/events/les-sentiers-de-sart-risbart/
SUMMARY:Festival "Les Sentiers de Sart-Risbart"
DESCRIPTION:
ATTACH;FMTTYPE=image/jpeg:https://traversemotion.be/wp-content/uploads/202
 6/02/logo-cachet-les-sentiers-v2.png
CATEGORIES:Festival
LOCATION:A Mon Beaulieu\, Rue Alphonse Robert\, 70\, Sart-Risbart (Incourt)
 \, 1315\, Belgique
X-APPLE-STRUCTURED-LOCATION;VALUE=URI;X-ADDRESS=Rue Alphonse Robert\, 70\, 
 Sart-Risbart (Incourt)\, 1315\, Belgique;X-APPLE-RADIUS=100;X-TITLE=A Mon 
 Beaulieu:geo:0,0
END:VEVENT
END:VCALENDAR