BEGIN:VCALENDAR
VERSION:2.0
PRODID:-//wp-events-plugin.com//7.2.3.1//EN
BEGIN:VEVENT
UID:11@traversemotion.be
DTSTART:20260626T200000Z
DTEND:20260626T200000Z
DTSTAMP:20260422T121000Z
URL:https://traversemotion.be/events/manu-galure-duo/
SUMMARY:Manu Galure (Duo)
DESCRIPTION:[button color="purple" newwindow="yes"] BILLETTERIE[/button]\nC
 hanson française\, poétique\, loufoque et spectaculaire\nManu Galure est
  un poète-pianiste fantasque qui bricole les mots et fait swinguer les é
 motions. Sur scène\, il mêle humour\, tendresse et énergie\, entre chan
 sons françaises ciselées et liberté totale. Autonome et proche du publi
 c\, il transforme chaque concert en moment unique\, drôle et touchant. En
  2026\, il fête 20 ans de scène : une belle occasion de (re)plonger dans
  son univers singulier.\n\nManu Galure : Piano\, chant\nUgo Guari : Régis
 seur\, Acteur\nRendez-Vous à Sart-Risbart\n\nPrévente : 10€ | Entrée 
 : 15€ | art27 : 1.25€ | -15 ans : € Libre\nAu jardin à Sart-Risbart
 \n\n[embed]https://www.youtube.com/watch?v=Wru_jS9e1IM[/embed]
ATTACH;FMTTYPE=image/jpeg:https://traversemotion.be/wp-content/uploads/202
 6/04/2026_06_26_ManuGalure_300px.jpg
CATEGORIES:Concert
LOCATION:Au Jardin\, Rue Alphonse Robert\, 71\, Sart-Risbart (Incourt)\, 13
 15\, Belgique
X-APPLE-STRUCTURED-LOCATION;VALUE=URI;X-ADDRESS=Rue Alphonse Robert\, 71\, 
 Sart-Risbart (Incourt)\, 1315\, Belgique;X-APPLE-RADIUS=100;X-TITLE=Au Jar
 din:geo:0,0
END:VEVENT
END:VCALENDAR