BEGIN:VCALENDAR
VERSION:2.0
PRODID:-//wp-events-plugin.com//7.2.3.1//EN
BEGIN:VEVENT
UID:13@traversemotion.be
DTSTART:20260628T150000Z
DTEND:20260628T150000Z
DTSTAMP:20260422T121725Z
URL:https://traversemotion.be/events/thibault-dille-daqui/
SUMMARY:Thibault Dille "DAQUI"
DESCRIPTION:[button color="purple" newwindow="yes"] BILLETTERIE[/button]\nJ
 azz / World\nLe projet DAQUI est un trio musical qui célèbre l’intercu
 lturalité à travers une musique inspirée de la diversité de Bruxelles.
  Leur musique\, un jazz belge latin\, mêle racines belges et influences b
 résiliennes et sud-américaines. Le groupe combine improvisation\, rythme
 s latins\, guitare\, percussions et accordéon pour créer un voyage music
 al riche et original.\n\nThibault Dille : Accordéon\, melowtone\nPierre G
 illet : Guitare à 7 cordes\nMarcos Della Rocha : Percussions\n\nPrévente
  : 10€ | Entrée : 15€ | art27 : 1.25€ | -15 ans : € Libre\nAu jar
 din à Sart-Risbart\n\n[embed]https://www.youtube.com/watch?v=eNezGeWlPYw[
 /embed]
ATTACH;FMTTYPE=image/jpeg:https://traversemotion.be/wp-content/uploads/202
 6/04/2026_06_28_ThibaultDilletrio_300px.jpg
CATEGORIES:Concert
LOCATION:Au Jardin\, Rue Alphonse Robert\, 71\, Sart-Risbart (Incourt)\, 13
 15\, Belgique
X-APPLE-STRUCTURED-LOCATION;VALUE=URI;X-ADDRESS=Rue Alphonse Robert\, 71\, 
 Sart-Risbart (Incourt)\, 1315\, Belgique;X-APPLE-RADIUS=100;X-TITLE=Au Jar
 din:geo:0,0
END:VEVENT
END:VCALENDAR