BEGIN:VCALENDAR
VERSION:2.0
PRODID:-//wp-events-plugin.com//7.2.3.1//EN
BEGIN:VEVENT
UID:14@traversemotion.be
DTSTART:20260628T180000Z
DTEND:20260628T180000Z
DTSTAMP:20260422T122048Z
URL:https://traversemotion.be/events/trio-charneux-leleux-puma/
SUMMARY:Trio Charneux – Leleux – Puma
DESCRIPTION:[button color="purple" newwindow="yes"] BILLETTERIE[/button]\nM
 élodie Trad / Europe de l’Est / Orient\nLe trio formé par Aurélie Cha
 rneux\, Simon Leleux et Nicolas Puma propose une musique intercontinentale
  mêlant influences orientales\, klezmer et balkaniques. À partir de mél
 odies simples\, leurs compositions ouvrent des espaces d’improvisation p
 arfois proches de la transe. Leur projet explore et réinvente différente
 s traditions pour créer une musique aux identités multiples\, fondée su
 r le dialogue entre les cultures.\n\nAurélie Charneux : Clarinette et com
 position\nSimon Leleux : Percussions\nNicolas Puma : Contrebasse\n\nPréve
 nte : 10€ | Entrée : 15€ | art27 : 1.25€ | -15 ans : € Libre\nAu 
 jardin à Sart-Risbart\n\n[embed]https://www.youtube.com/watch?v=Dt8Uy8ujo
 iU[/embed]
ATTACH;FMTTYPE=image/jpeg:https://traversemotion.be/wp-content/uploads/202
 6/04/2026_06_28_CharneuxLeleuxPumaTrio_300px.jpg
CATEGORIES:Concert
LOCATION:Au Jardin\, Rue Alphonse Robert\, 71\, Sart-Risbart (Incourt)\, 13
 15\, Belgique
X-APPLE-STRUCTURED-LOCATION;VALUE=URI;X-ADDRESS=Rue Alphonse Robert\, 71\, 
 Sart-Risbart (Incourt)\, 1315\, Belgique;X-APPLE-RADIUS=100;X-TITLE=Au Jar
 din:geo:0,0
END:VEVENT
END:VCALENDAR