BEGIN:VCALENDAR
VERSION:2.0
PRODID:-//wp-events-plugin.com//7.2.3.1//EN
BEGIN:VEVENT
UID:10@traversemotion.be
DTSTART:20260625T200000Z
DTEND:20260625T200000Z
DTSTAMP:20260422T121258Z
URL:https://traversemotion.be/events/we-want-miles/
SUMMARY:We Want Miles !
DESCRIPTION:[button color="purple" newwindow="yes"] BILLETTERIE[/button]\nJ
 azz modal / Hardpop\nWe Want Miles – 100 ans de Miles Davis célèbre l
 ’artiste qui a révolutionné le jazz\, du modal de Kind of Blue aux exp
 lorations électriques et groovy des années 80. Le concert traverse ses g
 randes métamorphoses : acoustique contemplatif\, liberté orchestrale\, 
 énergie funk et urbaine. Porté par un sextet audacieux\, le projet réin
 vente son héritage plutôt que de l’imiter. Un hommage vibrant\, libre 
 et actuel — une expérience à vivre intensément sur scène..\n\nPierre
  Malempré : Trompette\nThomas Champagne : Saxophone alto\nMichel Mainil :
  Saxophone ténor\nBilou Doneux : Batterie\nGuillaume Vierset : Guitare\nB
 enoît Vanderstraeten : Basse\n\nPrévente : 10€ | Entrée : 15€ | art
 27 : 1.25€ | -15 ans : € Libre\n\nAu jardin à Sart-Risbart\n\n[embed]
 https://www.youtube.com/watch?v=7fP68VuMCms[/embed]\n\n&nbsp\;
ATTACH;FMTTYPE=image/jpeg:https://traversemotion.be/wp-content/uploads/202
 6/04/2026_06_25_WWM_300px.jpg
CATEGORIES:Concert
LOCATION:Au Jardin\, Rue Alphonse Robert\, 71\, Sart-Risbart (Incourt)\, 13
 15\, Belgique
X-APPLE-STRUCTURED-LOCATION;VALUE=URI;X-ADDRESS=Rue Alphonse Robert\, 71\, 
 Sart-Risbart (Incourt)\, 1315\, Belgique;X-APPLE-RADIUS=100;X-TITLE=Au Jar
 din:geo:0,0
END:VEVENT
END:VCALENDAR